BEGIN:VCALENDAR
VERSION:2.0
PRODID:-//Hunter Arts Network - ECPv6.15.17//NONSGML v1.0//EN
CALSCALE:GREGORIAN
METHOD:PUBLISH
X-ORIGINAL-URL:https://hunterartsnetwork.org
X-WR-CALDESC:Events for Hunter Arts Network
REFRESH-INTERVAL;VALUE=DURATION:PT1H
X-Robots-Tag:noindex
X-PUBLISHED-TTL:PT1H
BEGIN:VTIMEZONE
TZID:Australia/Sydney
BEGIN:STANDARD
TZOFFSETFROM:+1100
TZOFFSETTO:+1000
TZNAME:AEST
DTSTART:20250405T160000
END:STANDARD
BEGIN:DAYLIGHT
TZOFFSETFROM:+1000
TZOFFSETTO:+1100
TZNAME:AEDT
DTSTART:20251004T160000
END:DAYLIGHT
BEGIN:STANDARD
TZOFFSETFROM:+1100
TZOFFSETTO:+1000
TZNAME:AEST
DTSTART:20260404T160000
END:STANDARD
BEGIN:DAYLIGHT
TZOFFSETFROM:+1000
TZOFFSETTO:+1100
TZNAME:AEDT
DTSTART:20261003T160000
END:DAYLIGHT
BEGIN:STANDARD
TZOFFSETFROM:+1100
TZOFFSETTO:+1000
TZNAME:AEST
DTSTART:20270403T160000
END:STANDARD
BEGIN:DAYLIGHT
TZOFFSETFROM:+1000
TZOFFSETTO:+1100
TZNAME:AEDT
DTSTART:20271002T160000
END:DAYLIGHT
END:VTIMEZONE
BEGIN:VEVENT
DTSTART;TZID=Australia/Sydney:20260823T100000
DTEND;TZID=Australia/Sydney:20260823T140000
DTSTAMP:20260424T000926
CREATED:20251214T054641Z
LAST-MODIFIED:20251214T055640Z
UID:27334-1787479200-1787493600@hunterartsnetwork.org
SUMMARY:Art Bazaar St Therese’s Primary School\, Royal St\, New Lambton Sunday 23 August 2026
DESCRIPTION:Hunter Arts Network Art Bazaar is a high quality artisan market that has been held since 2002. \n\n\n\nStay tuned for applications for stallholders for Art Bazaar 2026! Become one of the stallholders at this event who are all from the Hunter region of NSW. All stallholders are creative makers who have been selected by Hunter Arts Network because of their unique\, handmade\, high quality and original work. While wandering the stalls\, enjoy live entertainment\, food trucks and coffee. Art Bazaar continually brings the handmade art community to loyal followers who find gifts or treats for themselves\, while meeting the local Hunter makers and artists they are supporting. \n\n\n\nArt Bazaar will be returning in 2026 on these dates and Latin Velvet duo is performing live again at every Art Bazaar in 2026 – IG @latinvelvetmusic – www.latinvelvet.com \n\n\n\nSunday 22 March 10am – 2pm St Therese’s Primary School\, Royal St\, New Lambton \n\n\n\nSunday 23 August 10am – 2pm St Therese’s Primary School\, Royal St\, New Lambton \n\n\n\nSunday 22 November 9am – 2pm Lambton Park \n\n\n\nHunter Arts Network is run by a dedicated committee of volunteers who have also worked hard to celebrate all modalities of visual arts and the committee that has come together continues to do an amazing job to make this happen. \n\n\n\nBe a part of the Art Bazaar we have come to know today\, which is now held at Lambton Park and St Therese’s Primary School\, Royal St\, New Lambton. The stall fees are very affordable for stallholders and food/coffee trucks: \n\n\n\nSunday 22 March 10am – 2pm St Therese’s Primary School\, Royal St\, New Lambton $75.00 \n\n\n\nSunday 23 August 10am – 2pm St Therese’s Primary School\, Royal St\, New Lambton $75.00 \n\n\n\nSunday 22 November 9am – 2pm Lambton Park $85.00 \n\n\n\nYou must ensure your market tent is heavily weighed down \n\n\n\nSafety comes first and our major concern is the wind and we usually expect a bit of wind in the afternoon. Council has advised that pegs are no longer allowed in the park. Please pack weights to secure your gazebo. Weights must be around 15kg per leg and an inspection will be carried out at set up and no weights or flimsy weights will not be allowed. If bringing water weights it is often a good idea fill your water weights before packing them. \n\n\n\nPlease note Art Bazaar is an outdoor market so please be prepared for the weather for yourself and your work – please bring suitable footwear and attire and protection to cover your stall \n\n\n\nHAN membership \n\n\n\nAll stallholders need to first apply for a Hunter Arts Network membership.  \n\n\n\nThis membership fee also includes your public liability insurance for your stall at Art Bazaar (The membership year runs from 1 January – 31 December and will need to re-join the following year). \n\n\n\nWe now also provide help to unload and re-load your vehicle! (Thanks to Newcastle Men’s Shed) \n\n\n\nWhen you join HAN you are joining a community of like-minded members with the support of a hard working committee and HAN is Not-for-profit*The fees for membership are:Individuals $75.00Groups of 3 or less $100.00Large groups $120.00 \n\n\n\nWhat you get? \n\n\n\nDOWNLOAD PROMO ASSETS to share online  \n\n\n\nPlease share our socials and post on our socials: \n\n\n\nArt Bazaar Facebook page \n\n\n\nHunter Arts Network Facebook page \n\n\n\nHunter Arts Network Facebook group \n\n\n\nInstagram \n\n\n\nTwitter \n\n\n\n– Promote and sell your products and business face to face with the customer– This is a great marketing opportunity to raise your profile and increase brand awareness to large broader audiences– A highly anticipated market held four times every year attracting visitors from Maitland\, Lake Macquarie\, Newcastle\, Hunter region\, day-trippers and holiday makers from surrounding areas.– Opportunity for practitioners and organisations to develop professional networks– Many people find a gallery somewhat intimidating\, so this is a great way to introduce Art to potential customers.– The committee organises a comprehensive advertising campaign for each event including radio advertising on 2NUR\, Facebook and Instagram advertising\, A4 poster distribution\, regular EDM’s\, website updates\, socials posts\, stories and events\, and adding the event to many online events websites.  \n\n\n\nCLICK HERE TO APPLY FOR A STALL – LINK COMING SOON
URL:https://hunterartsnetwork.org/whats-on/27334/
LOCATION:St Therese’s Primary School\, Royal St\, New Lambton
ORGANIZER;CN="Hunter Arts Network":MAILTO:publicity@hunterartsnetwork.org
END:VEVENT
BEGIN:VEVENT
DTSTART;TZID=Australia/Sydney:20261122T090000
DTEND;TZID=Australia/Sydney:20261122T140000
DTSTAMP:20260424T000926
CREATED:20251214T054818Z
LAST-MODIFIED:20251214T055140Z
UID:27336-1795338000-1795356000@hunterartsnetwork.org
SUMMARY:Art Bazaar Lambton Park Sunday 22 November 2026
DESCRIPTION:Hunter Arts Network Art Bazaar is a high quality artisan market that has been held since 2002. \n\n\n\nStay tuned for applications for stallholders for Art Bazaar 2026! Become one of the stallholders at this event who are all from the Hunter region of NSW. All stallholders are creative makers who have been selected by Hunter Arts Network because of their unique\, handmade\, high quality and original work. While wandering the stalls\, enjoy live entertainment\, food trucks and coffee. Art Bazaar continually brings the handmade art community to loyal followers who find gifts or treats for themselves\, while meeting the local Hunter makers and artists they are supporting. \n\n\n\nArt Bazaar will be returning in 2026 on these dates and Latin Velvet duo is performing live again at every Art Bazaar in 2026 – IG @latinvelvetmusic – www.latinvelvet.com \n\n\n\nSunday 22 March 10am – 2pm St Therese’s Primary School\, Royal St\, New Lambton \n\n\n\nSunday 23 August 10am – 2pm St Therese’s Primary School\, Royal St\, New Lambton \n\n\n\nSunday 22 November 9am – 2pm Lambton Park \n\n\n\nHunter Arts Network is run by a dedicated committee of volunteers who have also worked hard to celebrate all modalities of visual arts and the committee that has come together continues to do an amazing job to make this happen. \n\n\n\nBe a part of the Art Bazaar we have come to know today\, which is now held at Lambton Park and St Therese’s Primary School\, Royal St\, New Lambton. The stall fees are very affordable for stallholders and food/coffee trucks: \n\n\n\nSunday 22 March 10am – 2pm St Therese’s Primary School\, Royal St\, New Lambton $75.00 \n\n\n\nSunday 23 August 10am – 2pm St Therese’s Primary School\, Royal St\, New Lambton $75.00 \n\n\n\nSunday 22 November 9am – 2pm Lambton Park $85.00 \n\n\n\nYou must ensure your market tent is heavily weighed down \n\n\n\nSafety comes first and our major concern is the wind and we usually expect a bit of wind in the afternoon. Council has advised that pegs are no longer allowed in the park. Please pack weights to secure your gazebo. Weights must be around 15kg per leg and an inspection will be carried out at set up and no weights or flimsy weights will not be allowed. If bringing water weights it is often a good idea fill your water weights before packing them. \n\n\n\nPlease note Art Bazaar is an outdoor market so please be prepared for the weather for yourself and your work – please bring suitable footwear and attire and protection to cover your stall \n\n\n\nHAN membership \n\n\n\nAll stallholders need to first apply for a Hunter Arts Network membership.  \n\n\n\nThis membership fee also includes your public liability insurance for your stall at Art Bazaar (The membership year runs from 1 January – 31 December and will need to re-join the following year). \n\n\n\nWe now also provide help to unload and re-load your vehicle! (Thanks to Newcastle Men’s Shed) \n\n\n\nWhen you join HAN you are joining a community of like-minded members with the support of a hard working committee and HAN is Not-for-profit*The fees for membership are:Individuals $75.00Groups of 3 or less $100.00Large groups $120.00 \n\n\n\nWhat you get? \n\n\n\nDOWNLOAD PROMO ASSETS to share online  \n\n\n\nPlease share our socials and post on our socials: \n\n\n\nArt Bazaar Facebook page \n\n\n\nHunter Arts Network Facebook page \n\n\n\nHunter Arts Network Facebook group \n\n\n\nInstagram \n\n\n\nTwitter \n\n\n\n– Promote and sell your products and business face to face with the customer– This is a great marketing opportunity to raise your profile and increase brand awareness to large broader audiences– A highly anticipated market held four times every year attracting visitors from Maitland\, Lake Macquarie\, Newcastle\, Hunter region\, day-trippers and holiday makers from surrounding areas.– Opportunity for practitioners and organisations to develop professional networks– Many people find a gallery somewhat intimidating\, so this is a great way to introduce Art to potential customers.– The committee organises a comprehensive advertising campaign for each event including radio advertising on 2NUR\, Facebook and Instagram advertising\, A4 poster distribution\, regular EDM’s\, website updates\, socials posts\, stories and events\, and adding the event to many online events websites.  \n\n\n\nCLICK HERE TO APPLY FOR A STALL – LINK COMING SOON
URL:https://hunterartsnetwork.org/whats-on/art-bazaar-lambton-park-sunday-22-november/
LOCATION:Lambton Park\, Cnr Howe and Morehead Sts\, Lambton\, NSW\, 2299\, Australia
ORGANIZER;CN="Hunter Arts Network":MAILTO:publicity@hunterartsnetwork.org
END:VEVENT
END:VCALENDAR